BEGIN:VCALENDAR
VERSION:2.0
PRODID:-//Library Market//iCal Export//EN
BEGIN:VEVENT
SUMMARY:Hooks &amp; Needles
UID:7662
DTSTAMP:20260420T045700Z
DTSTART:20260528T223000Z
DTEND:20260528T233000Z
LOCATION:Grimes Public Library, 200 NE Beaverbrooke Blvd, Grimes, IA 50111
 , United States
ROOM: Meeting Room A/B
DESCRIPTION:
URL:https://grimes.librarycalendar.com/event/hooks-needles-7662
END:VEVENT
END:VCALENDAR
