BEGIN:VCALENDAR
VERSION:2.0
PRODID:-//Library Market//iCal Export//EN
BEGIN:VEVENT
SUMMARY:EA meeting
UID:8095
DTSTAMP:20260420T045700Z
DTSTART:20260616T154500Z
DTEND:20260616T171500Z
LOCATION:Grimes Public Library, 200 NE Beaverbrooke Blvd, Grimes, IA 50111
 , United States
ROOM: Meeting Room A
DESCRIPTION:AEA EA team meeting
URL:https://grimes.librarycalendar.com/event/ea-meeting-8095
END:VEVENT
END:VCALENDAR
