BEGIN:VCALENDAR
VERSION:2.0
PRODID:-//Library Market//iCal Export//EN
BEGIN:VEVENT
SUMMARY:Mock Trial practice
UID:8112
DTSTAMP:20260421T000300Z
DTSTART:20260422T190000Z
DTEND:20260422T210000Z
LOCATION:Grimes Public Library, 200 NE Beaverbrooke Blvd, Grimes, IA 50111
 , United States
ROOM: Meeting Room A
DESCRIPTION:Homeschool study group mock trial rehearsal.
URL:https://grimes.librarycalendar.com/event/mock-trial-practice-8112
END:VEVENT
END:VCALENDAR
