BEGIN:VCALENDAR
VERSION:2.0
PRODID:-//Library Market//iCal Export//EN
BEGIN:VEVENT
SUMMARY:Change Management Planning
UID:8116
DTSTAMP:20260420T115800Z
DTSTART:20260424T173000Z
DTEND:20260424T203000Z
LOCATION:Grimes Public Library, 200 NE Beaverbrooke Blvd, Grimes, IA 50111
 , United States
ROOM: Meeting Room A
DESCRIPTION:Change management working session
URL:https://grimes.librarycalendar.com/event/change-management-planning-81
 16
END:VEVENT
END:VCALENDAR
