BEGIN:VCALENDAR
VERSION:2.0
PRODID:-//Library Market//iCal Export//EN
BEGIN:VEVENT
SUMMARY:Summit Creek Church
UID:8146
DTSTAMP:20260420T045700Z
DTSTART:20260513T163000Z
DTEND:20260513T213000Z
LOCATION:Grimes Public Library, 200 NE Beaverbrooke Blvd, Grimes, IA 50111
 , United States
ROOM: Meeting Room C
DESCRIPTION:Meeting Space.
URL:https://grimes.librarycalendar.com/event/summit-creek-church-8146
END:VEVENT
END:VCALENDAR
