BEGIN:VCALENDAR
VERSION:2.0
PRODID:-//Library Market//iCal Export//EN
BEGIN:VEVENT
SUMMARY:Dana McNamara
UID:8149
DTSTAMP:20260420T104000Z
DTSTART:20260422T170000Z
DTEND:20260422T180000Z
LOCATION:Grimes Public Library, 200 NE Beaverbrooke Blvd, Grimes, IA 50111
 , United States
ROOM: Study Room 4
DESCRIPTION:Monthly Career Planning Meeting
URL:https://grimes.librarycalendar.com/event/dana-mcnamara-8149
END:VEVENT
END:VCALENDAR
