BEGIN:VCALENDAR
VERSION:2.0
PRODID:-//Library Market//iCal Export//EN
BEGIN:VEVENT
SUMMARY:CultureALL
UID:8152
DTSTAMP:20260422T130500Z
DTSTART:20260420T153000Z
DTEND:20260420T163000Z
LOCATION:Grimes Public Library, 200 NE Beaverbrooke Blvd, Grimes, IA 50111
 , United States
ROOM: Meeting Room D
DESCRIPTION:planning session
URL:https://grimes.librarycalendar.com/event/cultureall-8152
END:VEVENT
END:VCALENDAR
