BEGIN:VCALENDAR
VERSION:2.0
PRODID:-//Library Market//iCal Export//EN
BEGIN:VEVENT
SUMMARY:Parent Connect Group
UID:8154
DTSTAMP:20260423T224600Z
DTSTART:20260516T140000Z
DTEND:20260516T160000Z
LOCATION:Grimes Public Library, 200 NE Beaverbrooke Blvd, Grimes, IA 50111
 , United States
ROOM: Meeting Room B
DESCRIPTION:We are with the Arthritis Foundation. We are a nonprofit suppo
 rt group for parents and caregivers of children who have juvenile arthriti
 s.
URL:https://grimes.librarycalendar.com/event/parent-connect-group-8154
END:VEVENT
END:VCALENDAR
