BEGIN:VCALENDAR
VERSION:2.0
PRODID:-//Library Market//iCal Export//EN
BEGIN:VEVENT
SUMMARY:Pinwheel set up
UID:8157
DTSTAMP:20260422T005400Z
DTSTART:20260526T221500Z
DTEND:20260527T003000Z
LOCATION:Grimes Public Library, 200 NE Beaverbrooke Blvd, Grimes, IA 50111
 , United States
ROOM: Meeting Room A/B
DESCRIPTION:Building pinwheels for Governors Days.
URL:https://grimes.librarycalendar.com/event/pinwheel-set-8157
END:VEVENT
END:VCALENDAR
