BEGIN:VCALENDAR
VERSION:2.0
PRODID:-//Library Market//iCal Export//EN
BEGIN:VEVENT
SUMMARY:ASL Lesson
UID:8158
DTSTAMP:20260421T000300Z
DTSTART:20260423T210000Z
DTEND:20260423T214500Z
LOCATION:Grimes Public Library, 200 NE Beaverbrooke Blvd, Grimes, IA 50111
 , United States
ROOM: Study Room 5
DESCRIPTION:ASL Lesson
URL:https://grimes.librarycalendar.com/event/asl-lesson-8158
END:VEVENT
END:VCALENDAR
