BEGIN:VCALENDAR
VERSION:2.0
PRODID:-//Library Market//iCal Export//EN
BEGIN:VEVENT
SUMMARY:Study Time
UID:8160
DTSTAMP:20260421T164100Z
DTSTART:20260425T140000Z
DTEND:20260425T160000Z
LOCATION:Grimes Public Library, 200 NE Beaverbrooke Blvd, Grimes, IA 50111
 , United States
ROOM: Study Room 3
DESCRIPTION:Study.
URL:https://grimes.librarycalendar.com/event/study-time-8160
END:VEVENT
END:VCALENDAR
