BEGIN:VCALENDAR
VERSION:2.0
PRODID:-//Library Market//iCal Export//EN
BEGIN:VEVENT
SUMMARY:CFI meeting
UID:8162
DTSTAMP:20260423T224600Z
DTSTART:20260423T190000Z
DTEND:20260423T200000Z
LOCATION:Grimes Public Library, 200 NE Beaverbrooke Blvd, Grimes, IA 50111
 , United States
ROOM: Study Room 2
DESCRIPTION:Employment meeting for client
URL:https://grimes.librarycalendar.com/event/cfi-meeting-8162
END:VEVENT
END:VCALENDAR
