BEGIN:VCALENDAR
VERSION:2.0
PRODID:-//Library Market//iCal Export//EN
BEGIN:VEVENT
SUMMARY:Kelly Cocks
UID:8163
DTSTAMP:20260422T130500Z
DTSTART:20260423T180000Z
DTEND:20260423T190000Z
LOCATION:Grimes Public Library, 200 NE Beaverbrooke Blvd, Grimes, IA 50111
 , United States
ROOM: Study Room 5
DESCRIPTION:IVRS Meeting
URL:https://grimes.librarycalendar.com/event/kelly-cocks-8163
END:VEVENT
END:VCALENDAR
