BEGIN:VCALENDAR
VERSION:2.0
PRODID:-//Library Market//iCal Export//EN
BEGIN:VEVENT
SUMMARY:Rooker Reservation 4/30
UID:8164
DTSTAMP:20260423T171700Z
DTSTART:20260430T140000Z
DTEND:20260430T153000Z
LOCATION:Grimes Public Library, 200 NE Beaverbrooke Blvd, Grimes, IA 50111
 , United States
ROOM: Study Room 5
DESCRIPTION:Reserving room for silent work time and brief business call/pr
 esentation
URL:https://grimes.librarycalendar.com/event/rooker-reservation-430-8164
END:VEVENT
END:VCALENDAR
