BEGIN:VCALENDAR
VERSION:2.0
PRODID:-//Library Market//iCal Export//EN
BEGIN:VEVENT
SUMMARY:Rooker Reservation
UID:8165
DTSTAMP:20260423T224600Z
DTSTART:20260429T170000Z
DTEND:20260429T190000Z
LOCATION:Grimes Public Library, 200 NE Beaverbrooke Blvd, Grimes, IA 50111
 , United States
ROOM: Study Room 3
DESCRIPTION:Reserving room for silent work time and brief business call/pr
 esentation
URL:https://grimes.librarycalendar.com/event/rooker-reservation-8165
END:VEVENT
END:VCALENDAR
