BEGIN:VCALENDAR
VERSION:2.0
PRODID:-//Library Market//iCal Export//EN
BEGIN:VEVENT
SUMMARY:Study
UID:8166
DTSTAMP:20260422T034100Z
DTSTART:20260421T210000Z
DTEND:20260421T230000Z
LOCATION:Grimes Public Library, 200 NE Beaverbrooke Blvd, Grimes, IA 50111
 , United States
ROOM: Study Room 3
DESCRIPTION:Study
URL:https://grimes.librarycalendar.com/event/study-8166
END:VEVENT
END:VCALENDAR
