BEGIN:VCALENDAR
VERSION:2.0
PRODID:-//Library Market//iCal Export//EN
BEGIN:VEVENT
SUMMARY:CultureAll
UID:8168
DTSTAMP:20260425T164900Z
DTSTART:20260506T151500Z
DTEND:20260506T191500Z
LOCATION:Grimes Public Library, 200 NE Beaverbrooke Blvd, Grimes, IA 50111
 , United States
ROOM: Meeting Room C
DESCRIPTION:Workshop planning/training
URL:https://grimes.librarycalendar.com/event/cultureall-8168
END:VEVENT
END:VCALENDAR
