BEGIN:VCALENDAR
VERSION:2.0
PRODID:-//Library Market//iCal Export//EN
BEGIN:VEVENT
SUMMARY:Logan
UID:8175
DTSTAMP:20260423T103900Z
DTSTART:20260424T220000Z
DTEND:20260424T224500Z
LOCATION:Grimes Public Library, 200 NE Beaverbrooke Blvd, Grimes, IA 50111
 , United States
ROOM: Study Room 4
DESCRIPTION:Room use.
URL:https://grimes.librarycalendar.com/event/logan-8175
END:VEVENT
END:VCALENDAR
