BEGIN:VCALENDAR
VERSION:2.0
PRODID:-//Library Market//iCal Export//EN
BEGIN:VEVENT
SUMMARY:Mentorship Inc
UID:8188
DTSTAMP:20260423T092600Z
DTSTART:20260424T140000Z
DTEND:20260424T180000Z
LOCATION:Grimes Public Library, 200 NE Beaverbrooke Blvd, Grimes, IA 50111
 , United States
ROOM: Meeting Room B
DESCRIPTION:Planning, strategy, and outreach for monthly engagement
URL:https://grimes.librarycalendar.com/event/mentorship-inc-8188
END:VEVENT
END:VCALENDAR
